BEGIN:VCALENDAR
VERSION:2.0
PRODID:metaLAB (at) Harvard, Berlin & Basel
METHOD:PUBLISH
CALSCALE:GREGORIAN
BEGIN:VEVENT
CATEGORIES:metaLAB (at) Harvard, Berlin & Basel
UID:event-420260421T102422Z@metalab
DTSTART:20260302T163000Z
DTEND:20260302T193000Z
SUMMARY:Lands and Communities – ¿SUSTAINABLE? - a symposium series
DESCRIPTION:The LANDS AND COMMUNITIES Symposium is the first in a series of five symposia entitled ¿SUSTAINABLE? curated by Raffaella Colombo and hosted by metaLAB (at) Harvard. Composed of critical interventions, it promotes perspectives that deconstruct commonplaces and critically scrutinize claims of sustainability. The symposium series brings together leading thinkers and practitioners from institutions from around the world.
URL:https://metalab.harvard.edu/e/event-4/
LOCATION:online
DTSTAMP:20260421T102422Z
END:VEVENT
END:VCALENDAR