BEGIN:VCALENDAR
VERSION:2.0
PRODID:metaLAB (at) Harvard, Berlin & Basel
METHOD:PUBLISH
CALSCALE:GREGORIAN
BEGIN:VEVENT
CATEGORIES:metaLAB (at) Harvard, Berlin & Basel
UID:event-520260422T020001Z@metalab
DTSTART:20260318T153000Z
DTEND:20260318T201500Z
SUMMARY:Landscape Architecture – ¿SUSTAINABLE? - a symposium series
DESCRIPTION:LANDSCAPE ARCHITECTURE is the second in a series of five symposia entitled ¿SUSTAINABLE? curated by Raffaella Colombo and hosted by metaLAB (at) Harvard. Composed of critical interventions it promotes perspectives that deconstruct commonplaces and critically scrutinize claims of sustainability. The symposium series brings together leading thinkers and practitioners from institutions from around the world.
URL:https://metalab.harvard.edu/e/event-5/
LOCATION:online
DTSTAMP:20260422T020001Z
END:VEVENT
END:VCALENDAR