BEGIN:VCALENDAR
VERSION:2.0
PRODID:metaLAB (at) Harvard, Berlin & Basel
METHOD:PUBLISH
CALSCALE:GREGORIAN
BEGIN:VEVENT
CATEGORIES:metaLAB (at) Harvard, Berlin & Basel
UID:event-720260422T022455Z@metalab
DTSTART:20260428T153000Z
DTEND:20260428T183000Z
SUMMARY:The Built Environment – ¿SUSTAINABLE? - a symposium series
DESCRIPTION:THE BUILT ENVIRONMENT symposium is the fourth in a series of five symposia entitled ¿SUSTAINABLE? curated by Raffaella Colombo and hosted by metaLAB (at) Harvard. Composed of critical interventions it promotes perspectives that deconstruct commonplaces and critically scrutinize claims of sustainability. The symposium series brings together leading thinkers and practitioners from institutions from around the world.
URL:https://metalab.harvard.edu/e/event-7/
LOCATION:online
DTSTAMP:20260422T022455Z
END:VEVENT
END:VCALENDAR